BEGIN:VCALENDAR
VERSION:2.0
PRODID:-//Aitiha - ECPv5.11.0//NONSGML v1.0//EN
CALSCALE:GREGORIAN
METHOD:PUBLISH
X-WR-CALNAME:Aitiha
X-ORIGINAL-URL:https://aitiha.com
X-WR-CALDESC:Events for Aitiha
BEGIN:VTIMEZONE
TZID:Asia/Kolkata
BEGIN:STANDARD
TZOFFSETFROM:+0530
TZOFFSETTO:+0530
TZNAME:IST
DTSTART:20220101T000000
END:STANDARD
END:VTIMEZONE
BEGIN:VEVENT
DTSTART;VALUE=DATE:20221016
DTEND;VALUE=DATE:20221017
DTSTAMP:20260420T075030
CREATED:20220924T181429Z
LAST-MODIFIED:20220925T172933Z
UID:1275-1665878400-1665964799@aitiha.com
SUMMARY:Mahanadi Valley: Bhattarika Tour
DESCRIPTION:Pick-up Point : TTD Kalyan Mandap\, Jayadev Vihar\, Bhubaneswar \nReport By: 6.30AM \nDuration: 12 hours \nDistance to be covered: Around 110 km & back \nCharges per head – For charges\, please contact both via mail to infoaitiha@gmail\,com & whatsapp@9861288166 \nSites to visit: Five sites to touch namely Anshupa Lake (via Athagarh)\, Trutiyadeba Deula (Subarnapur)\, Singhanatha Temple (Gobindapur)\, Padmeswar Mahadeba Temple (Baneswar Nasi)\, Maa Bhattarika Temple (Bhattarika) \nFor registration\, click http://aitiha.com/event-registration/ & choose Mahanadi Valley: Bhattarika Tour from the drop-down options available. \nFor event details\, click http://aitiha.com/event/mahanadi-valley-tour-bhattarika/ under upcoming events option \nMaa Bhattarika Peetha (Badamba)\nPadmeswar Temple (Baneswar Nasi)\nSinghanatha Temple (Gobindpur)\nAnshupa Lake\nTrutiyadeba Deula (Subarnapur)\nGuidelines for this tour – \nRegistration & payment open till 6 PM of 14th Oct 2022. You have to pay online in full through our portal’s event registration page. \nYour registration automatically confirms your acknowledgment of our Terms & Conditions\, Do’s & Don’ts & Privacy Policy. Our tours will be of limited seats only\, hence book early \nWe shall move in a standard AC vehicle on sharing basis for the tour. However\, if any participant wishes\, he/she can opt for ‘Bring Your Own Vehicle‘ (BYOV) option at their own cost\, but need to follow the pilot vehicle of Team Aitiha. Participants are required to use face mask\, carry their sanitizer & maintain social distancing at public places. \nOur usual route shall be through Jaydev Vihar Sq>>Baranga>>Mundali Bridge>>Athagada>>Gobindapur>>Baneswar Nasi>>Bhattarika all in Cuttack district \nWear comfortable clothes as per climate with easy to remove footwear. Please carry your essentials with you which may include any medicine\, umbrella/cap & others. Since breakfast & lunch shall be standard veg food as available locally en-route\, participants who wish can carry their own veg food. Please respect the rules of places of worship\, respect the locals & act accordingly. Keep your mobile in silent mode wherever needed. If photography is not allowed in any site partially or fully\, don’t try to take it. \nIn case of any further queries\, you may contact us via email at infoaitiha@gmail.com or WhatsApp us at 9861288166 \nFor further details on our Terms & Conditions & Privacy Policy\, please click on the link below :- http://aitiha.com/terms-conditions/  \, http://aitiha.com/privacy-policy-2/
URL:https://aitiha.com/event/mahanadi-valley-tour-bhattarika/
LOCATION:Bhattarika\, Badamba\, Odisha\, 754031\, India
CATEGORIES:Mahanadi Valley,Temple Tour
ATTACH;FMTTYPE=image/jpeg:https://aitiha.com/wp-content/uploads/2022/09/ait-bhattarika-teaser3.jpg
ORGANIZER;CN="Team%20Aitiha":MAILTO:infoaitiha@gmail.com
END:VEVENT
END:VCALENDAR