BEGIN:VCALENDAR
VERSION:2.0
PRODID:-//Aitiha - ECPv5.11.0//NONSGML v1.0//EN
CALSCALE:GREGORIAN
METHOD:PUBLISH
X-WR-CALNAME:Aitiha
X-ORIGINAL-URL:https://aitiha.com
X-WR-CALDESC:Events for Aitiha
BEGIN:VTIMEZONE
TZID:Asia/Kolkata
BEGIN:STANDARD
TZOFFSETFROM:+0530
TZOFFSETTO:+0530
TZNAME:IST
DTSTART:20200101T000000
END:STANDARD
END:VTIMEZONE
BEGIN:VEVENT
DTSTART;VALUE=DATE:20200208
DTEND;VALUE=DATE:20200209
DTSTAMP:20260418T150516
CREATED:20200124T153956Z
LAST-MODIFIED:20220924T144711Z
UID:578-1581120000-1581206399@aitiha.com
SUMMARY:Joranda Mela Tour
DESCRIPTION:JORANDA MELA TOUR – 8th Feb 2020 (Sat) \nPick-up/Drop Down Point : TTD Mandap\, Jayadev Vihar\, Bhubaneswar \nReport By: .6.30AM \nDuration: 12 hours (one day tour) \nCharges per head: For charges\, contact both via mail to infoaitiha@gmail\,com & whatsapp@9861288166 \nNote:- Visitors who seeks to go uphill at Kapilas\, have to bear the extra cost charged by the local committee for sharing vehicle to reach uphill. \nLast date of booking: 48 hrs before tour i.e by 6th Feb 2020 (Fri) 6 pm subject to seat availability \nSites to visit: \n\nDhenkanal Palace\, a large complex on the slopes of the Paniohala Hills in Dhenkanal Town\, was built at the site of a fort. Six rooms of the royal palace have now been reserved for guests under heritage palace hotels plan. One can view the palace from outside since it’s a private property & visit needs Raja Saheb’s permission.\nSiddha Balarama Temple (16th century) at Ganesh Bazar\, Dhenkanal Town\, has Jagannath\, Balabhadra &Subhadra as chief deities constructed by the royal family of Garh Dhenkanal princely state.\nKapilas Hills with 12 hairpin bend ghat roads\, enshrines the temple of Mahadeb Chandrasekhar on its peak. Maha Shibaratri witnesses a huge lines of devotees for darshan\, some who walk or ride the ghats uphill of 5 kms or takes the exhausting stair walk of 1351 steps from downhill to the top. Mahima Gosain is historically associated with this place since his tapasya peetha is still there. Tourist four wheelers are not allowed uphill\, hence one has to park the vehicle & the local vehicle will take you up to the shrine at a additional nominal fees.\nJoranda Mahima Gadi in Dhenkanal district\, the main shrine of Mahima Dharma\, houses the samadhi of Mahima Gosain\, founder of Mahima cult. Joranda Mela\, the annual fair is held on full moon day of Magh month (Jan-Feb) during which the monks from all over India\, who leads a life of austerity congregates together & so do their followers.\n\n \nAlekha Mahima sadhu applying ghee at Joranda Shunya Mandir \n  \n \nJoranda Mela area with local items on display \n \nChandrasekhar Mahadeb Temple of 1246 AD at Kapilas Hills \n \nThe private royal palace of Dhenkanal at Dhenkanal Town \n \nSiddha Balarama Temple at Dhenkanal Town \nPlease note that you are visiting sadhus & their temple of worship\, hence dress sensibly & carry umbrella/cap with water bottle. \nTo know further about Joranda Mela Tour please browse through this informative blog article.. \nhttp://bbsrpulse.com/2018/01/dhenkanal-the-land-of-royals-rituals/ \nFor details of T&C & general guidelines. please use the link.. http://aitiha.com/terms-conditions/ \nFor registration\, please use the link.. http://aitiha.com/event-registration/ & select Joranda Mela Tour from the drop down option. \n 
URL:https://aitiha.com/event/joranda-mela-tour/
CATEGORIES:Forts & Palaces Tour,Temple Tour
ATTACH;FMTTYPE=image/jpeg:https://aitiha.com/wp-content/uploads/2020/01/joranda-mela.jpg
END:VEVENT
END:VCALENDAR