BEGIN:VCALENDAR
VERSION:2.0
PRODID:-//Aitiha - ECPv5.11.0//NONSGML v1.0//EN
CALSCALE:GREGORIAN
METHOD:PUBLISH
X-WR-CALNAME:Aitiha
X-ORIGINAL-URL:https://aitiha.com
X-WR-CALDESC:Events for Aitiha
BEGIN:VTIMEZONE
TZID:Asia/Kolkata
BEGIN:STANDARD
TZOFFSETFROM:+0530
TZOFFSETTO:+0530
TZNAME:IST
DTSTART:20190101T000000
END:STANDARD
END:VTIMEZONE
BEGIN:VEVENT
DTSTART;TZID=Asia/Kolkata:20190818T063000
DTEND;TZID=Asia/Kolkata:20190818T183000
DTSTAMP:20260417T225334
CREATED:20190725T062624Z
LAST-MODIFIED:20220924T142423Z
UID:261-1566109800-1566153000@aitiha.com
SUMMARY:Baitarani Valley - Biraja Khetra Tour
DESCRIPTION:Pick-up Point : TTD Mandap\, Jayadev Vihar\, Bhubaneswar \nReport By: 6.30AM \nDuration: 12 hours \nFor Charges per head\, contact both via mail to infoaitiha@gmail\,com & whatsapp@9861288166 \nSites to visit: Five sites under the tour namely Deuli Hills (sunrise/sunset point)\, Barahanatha Temple (on the banks of Baitarani river)\, Jagannatha Temple (JajpurTown)\, Dasaswamedha Ghat (Baitarani river bank) & Biraja Temple of Biraja Khetra fame. \nBrahmani river view from Deuli Hills\nEnchanting Garuda at Barahanatha Temple\nMurals of Jagannatha Temple\nDurga Idol at Biraja temple\nSaptamatrika Temple’s Odia inscription on door near Dasaswamedha Ghat
URL:https://aitiha.com/event/biraja-khetra-tour/
CATEGORIES:Baitarani Valley
ATTACH;FMTTYPE=image/jpeg:https://aitiha.com/wp-content/uploads/2019/07/ait-biraja-teaser-10.jpg
ORGANIZER;CN="Team%20Aitiha":MAILTO:infoaitiha@gmail.com
END:VEVENT
END:VCALENDAR